BEGIN:VCALENDAR
VERSION:2.0
PRODID:-//Eventin//Event Calendar//EN
CALSCALE:GREGORIAN
METHOD:PUBLISH
BEGIN:VEVENT
UID:ead9467f91b3defe664b430fe17973d9@mangkualitajna.com
SUMMARY:Jnana Kanda Global Wisdom Tranmission
DESCRIPTION:Taught directly by MahaGuru MANGKU ALIT AJNA\nOver the years\, 
 the World Healer Class has been held multiple times\,gathering students fro
 m around the world who are called to the path of healing and inner transfor
 mation.\nWith students and practitioners now present in over 131 countries\
 ,this next offering is presented as a more complete and integrated transmis
 sion.\nThis retreat is designed to encompass the full essence of Jnana Kand
 a bringing together its teachings\, practice\, and transmission into one un
 ified experience.\nA Path of Knowledge\, Energy\, and Spiritual Transmissio
 n\nJnana Kanda is not merely a system of learning.It is a path of inner kno
 wledge\, energy awareness\, and direct spiritual transmission.\nThis retrea
 t is an expression of that path—where teaching\, experience\, and transmi
 ssion become one unified process.\nRooted in an ancient stream of wisdom\, 
 Jnana Kanda guides the individual back to the core of consciousness where c
 larity\, balance\, and true understanding arise.\nThrough this path\, one d
 oes not only learn how to heal\, but also how to perceive\, understand\, an
 d work with deeper layers of energy and awareness.\nIt is a path that refin
 es not only ability\, but also presence\, responsibility\, and inner alignm
 ent.\nWho This Path Is For\nThis offering is intended for those who:\n• f
 eel called toward deeper spiritual understanding• are ready to work with 
 energy in a conscious and responsible way• seek not only knowledge\, but 
 transformation• are willing to walk a path of discipline\, awareness\, an
 d sincerity\nNo prior experience is required only openness\, readiness\, an
 d respect for the process.\nThe Structure of Jnana Kanda\nThe learning is s
 tructured into two levels\, both of which are transmitted within this three
 -day immersion.\nJnana Kanda I — Energy Awareness & Healing\nJnana Kanda 
 I focuses on developing sensitivity toward energy.\nParticipants begin to:
 • recognize and feel subtle energy• understand how energy flows within 
 the body• apply energy as a method of healing and transformation\nAt this
  stage\, healing is practiced through direct interaction—working with ano
 ther person’s energy in a present and grounded way.\nThis level establish
 es the foundation of perception and stability\,which is essential before en
 tering deeper spiritual work.\nJnana Kanda II — Advanced & Supranatural H
 ealing\nJnana Kanda II opens a deeper dimension of spiritual capacity.\nThi
 s includes:• working with energy beyond physical presence• accessing mo
 re subtle layers of awareness• supporting healing processes through non-p
 hysical methods\nThese abilities are not approached as personal power\,but 
 as a responsibility to serve\, to guide\, and to support others with integr
 ity.\nAt this stage\, the practitioner begins to understand that healing is
  not only action but also alignment with a greater intelligence.\nAll proce
 sses are introduced carefully under the direct guidance ofMahaGuru MANGKU A
 LIT AJNA.\nThe Three-Day Sacred Process\nThis event is not only a teaching 
 it is a structured spiritual journey.\nEach day is designed as a progressiv
 e opening of awareness.\nDay One — Preparation & Initiation\nThe journey 
 begins with Melukat\, a sacred Balinese purification ritual.\nThis process 
 prepares the body\, mind\, and energy system cleansing and opening the part
 icipant to receive deeper transmission.\nIt is followed by a blessing proce
 ss\, where intention is aligned and permission is given to enter the path.\
 nThe day continues with the initiation of Jnana Kanda I.\nInitiation is not
  merely instruction it is a direct transmission\, where knowledge and energ
 etic capacity are passed from teacher to student.\nThis is the moment where
  the path begins to activate within the individual.\nDay Two — Learning &
  Practice\nOn the second day\, participants enter into direct learning and 
 practice.\nThis includes:• guided energy work• hands-on application• 
 development of sensitivity and awareness\nThe focus is to build a stable fo
 undation so that knowledge is not only understood\, but embodied.\nThrough 
 repetition and guidance\, participants begin to experienceconfidence\, clar
 ity\, and energetic precision.\nDay Three — Deeper Initiation & Expansion
 \nThe third day continues with the initiation of Jnana Kanda II.\nAt this s
 tage\, participants are introduced to a deeper level of practice—moving b
 eyond physical interaction into more subtle dimensions of healing.\nLearnin
 g is followed by integration\,allowing both levels to settle within the par
 ticipant’s awareness and practice.\nThis phase marks the beginning of a d
 eeper relationshipbetween the practitioner and the unseen dimensions of ene
 rgy and consciousness.\nThe Role of Transmission\nIn Jnana Kanda\, learning
  is not limited to explanation.\nA significant part of the process is trans
 mission a direct energetic transfer that supports awakening and understandi
 ng beyond the intellectual level.\nThis is what allows the student not only
  to understand the teaching\, but to embody it.\nA Living Path\nAlthough th
 is process takes place over three days\,Jnana Kanda is not limited to time.
 \nIt is a living path.\nFor those who continue\, guidance remains available
  not as a fixed system\, but as an ongoing alignment with the direction ofM
 ahaGuru MANGKU ALIT AJNA.\nEach journey unfolds differently.\nWhat matters 
 is not how fast one progresses but the sincerity\, discipline\, and respons
 ibility carried within the path.\nInvestment & Experience\nIncludes:\n• T
 hree-day immersive Jnana Kanda transmission and learning• 3 nights accomm
 odation• Daily breakfast and dinner• Ceremonial attire for all three da
 ys• Transportation between accommodation and Pendopo Agung Center\nEveryt
 hing is prepared to allow participants to fully enter the process with ease
 \, clarity\, and presence.\n CLICK HERE TO JOIN
LOCATION:Pendopo Agung Center Bali
DTSTAMP:20260423T183916Z
DTSTART:20270718T040000Z
DTEND:20270720T042000Z
END:VEVENT
END:VCALENDAR
